BEGIN:VCALENDAR
VERSION:2.0
PRODID:-//eventon.com NONSGML v1.0//EN
CALSCALE:GREGORIAN
METHOD:PUBLISH
BEGIN:VEVENT
UID:69ecb649a353b
DTSTAMP:20260425T124041Z
DTSTART:20240316
DTEND:20240317
LOCATION:Dorfmanufaktur Idensen Brinkstr. 2
SUMMARY:Frühjahrsmarkt
DESCRIPTION:Lust auf Frühling&#8230; unser Frühjahrsmarkt in Idensen jewe
 ils von 11: &#8211; 17:00 Uhr\nhttps://dorfmanufakturidensen.de/events/frue
 hjahrsmarkt/
URL:https://dorfmanufakturidensen.de/events/fruehjahrsmarkt/
END:VEVENT
END:VCALENDAR