BEGIN:VCALENDAR
VERSION:2.0
PRODID:-//eventon.com NONSGML v1.0//EN
CALSCALE:GREGORIAN
METHOD:PUBLISH
BEGIN:VEVENT
UID:69e7d6805c186
DTSTAMP:20260421T195648Z
DTSTART:20210116T053000Z
DTEND:20210116T083000Z
LOCATION:Dorfmanufaktur Idensen Brinkstr. 2
SUMMARY:Vogelcafés flechten
DESCRIPTION:Vogelcafés flechten\nhttps://dorfmanufakturidensen.de/events/v
 ogelcafes-flechten/
URL:https://dorfmanufakturidensen.de/events/vogelcafes-flechten/
END:VEVENT
END:VCALENDAR