BEGIN:VCALENDAR
VERSION:2.0
PRODID:-//eventon.com NONSGML v1.0//EN
CALSCALE:GREGORIAN
METHOD:PUBLISH
BEGIN:VEVENT
UID:69ec965a37c6c
DTSTAMP:20260425T102426Z
DTSTART:20211008T060000Z
DTEND:20211008T090000Z
LOCATION:Dorfmanufaktur Idensen Brinkstr. 2
SUMMARY:Bohren\,  Dübeln\,  Schrauben
DESCRIPTION:Dieser Kurs vermittelt ihnen das Grundwissen um einen Holz- von
  einem Steinbohrer und eine Schlitz- von einer Spaxschraube unterscheiden z
 u können. Er besteht aus einem Theorie- und einem Praxisteil und soll ihne
 n ermöglichen eine Lampe oder Gardinenstange selbständig anzubringen.\nht
 tps://dorfmanufakturidensen.de/events/bohren-duebeln-schrauben-3/
URL:https://dorfmanufakturidensen.de/events/bohren-duebeln-schrauben-3/
END:VEVENT
END:VCALENDAR