BEGIN:VCALENDAR
VERSION:2.0
PRODID:-//eventon.com NONSGML v1.0//EN
CALSCALE:GREGORIAN
METHOD:PUBLISH
BEGIN:VEVENT
UID:69ecd429b4a4d
DTSTAMP:20260425T144809Z
DTSTART:20211204T210000Z
DTEND:20211205T020000Z
LOCATION:
SUMMARY:Silberschmuck schmieden (Copy) (Copy)
DESCRIPTION:In diesem Kurs biete ich für Anfänger an\,  die Grundtechnick
 en des Goldschmiedens kennen zu lernen.Aus Silberblech und -draht können k
 leine Schmuckstücke z.B. Anhänger\,  Ohrschmuck oder Ringe gefertigt werd
 en. Jeder kann ein Motiv aussägen bzw. biegen und die Oberfläche polieren
  oder mit Punsen und Hammer ausgestalten.Für Fortgeschrittene biete ich zu
 sätzliche Tipps[..]\nhttps://dorfmanufakturidensen.de/events/silberschmuck
 -schmieden-copy-copy-3/
URL:https://dorfmanufakturidensen.de/events/silberschmuck-schmieden-copy-copy-3/
END:VEVENT
END:VCALENDAR