BEGIN:VCALENDAR
VERSION:2.0
PRODID:-//eventon.com NONSGML v1.0//EN
CALSCALE:GREGORIAN
METHOD:PUBLISH
BEGIN:VEVENT
UID:69ed67bd5e3eb
DTSTAMP:20260426T011749Z
DTSTART:20220806
DTEND:20220807
LOCATION:Dorfmanufaktur Idensen Brinkstr. 2
SUMMARY:Sommermarkt
DESCRIPTION:Verschoben auf den 6 + 7 August Wir sind im Garten&#8230;&#8230
 ;. freuen uns darauf\,  endlich unsere schönen neuen Produkte zu präsenti
 eren.\nhttps://dorfmanufakturidensen.de/events/sommermarkt-2/
URL:https://dorfmanufakturidensen.de/events/sommermarkt-2/
END:VEVENT
END:VCALENDAR