BEGIN:VCALENDAR
VERSION:2.0
PRODID:-//eventon.com NONSGML v1.0//EN
CALSCALE:GREGORIAN
METHOD:PUBLISH
BEGIN:VEVENT
UID:69e6c76fd4088
DTSTAMP:20260421T004015Z
DTSTART:20230712T163000Z
DTEND:20230712T200000Z
LOCATION:
SUMMARY:Spiralstecker
DESCRIPTION:Aus biegsamen Weidenruten flechten wir interessante Spiralen in
  verschiedenen Größen\,  die aufgehängt hübsche Windspiele ergeben. Mit
  kleinen Muscheln und anderen Materialien wie Steine\,  Federn\,  Glöckche
 n und&nbsp; sonstigen Materialien sind sie draußen wie drinnen hübsch anz
 usehen. Sie können auch auf einem Stock montiert werden und dann als&nbsp;
 Spiralstecker&nbsp;in den Garten gesteckt werden.[..]\nhttps://dorfmanufakt
 uridensen.de/events/spiralstecker/
URL:https://dorfmanufakturidensen.de/events/spiralstecker/
END:VEVENT
END:VCALENDAR