BEGIN:VCALENDAR
VERSION:2.0
PRODID:-//eventon.com NONSGML v1.0//EN
CALSCALE:GREGORIAN
METHOD:PUBLISH
BEGIN:VEVENT
UID:69ec97769cbfe
DTSTAMP:20260425T102910Z
DTSTART:20230318T210000Z
DTEND:20230319T020000Z
LOCATION:
SUMMARY:Silberschmuck Gestalten
DESCRIPTION:Um sich kreativ neu auszuprobieren\,  können Sie in diesem Kur
 s mit schönen Schmuck- oder Edelsteinen\,  Edelmetalldraht und -blech ( Si
 lber und Gold) kleine Schmuckstücke wie z.B. Ketten\,  Anhänger\,  Ohrhä
 nger oder Ringe herstellen. Wenn Sie alten Schmuck\,  Andenken oder kleine 
 Erinnerungsstücke haben\,  können Sie diese ebenfalls verwenden. Schmuck 
 aus Silberbesteck- Upcycling[..]\nhttps://dorfmanufakturidensen.de/events/s
 ilberschmuck-gestalten-copy-2/
URL:https://dorfmanufakturidensen.de/events/silberschmuck-gestalten-copy-2/
END:VEVENT
END:VCALENDAR