BEGIN:VCALENDAR
VERSION:2.0
PRODID:-//eventon.com NONSGML v1.0//EN
CALSCALE:GREGORIAN
METHOD:PUBLISH
BEGIN:VEVENT
UID:69ea4ec1bc021
DTSTAMP:20260423T165425Z
DTSTART:20230325
DTEND:20230326
LOCATION:Dorfmanufaktur Idensen Brinkstr. 2
SUMMARY:Frühlingsmarkt
DESCRIPTION:Wir begrüßen den Frühling in Idensen jeweils von 11: &#8211;
  17:00 Uhr\nhttps://dorfmanufakturidensen.de/events/fruehlingsmarkt-2/
URL:https://dorfmanufakturidensen.de/events/fruehlingsmarkt-2/
END:VEVENT
END:VCALENDAR