BEGIN:VCALENDAR
VERSION:2.0
PRODID:-//eventon.com NONSGML v1.0//EN
CALSCALE:GREGORIAN
METHOD:PUBLISH
BEGIN:VEVENT
UID:69e793ed3c01a
DTSTAMP:20260421T151245Z
DTSTART:20231118T210000Z
DTEND:20231119T020000Z
LOCATION:
SUMMARY:Schmuck Kreativ Gestalten
DESCRIPTION:Um sich kreativ neu auszuprobieren\,  können Sie in diesem Kur
 s mit schönen Schmuck- oder Edelsteinen\,  Edelmetalldraht und -blech (Sil
 ber und Gold) kleine Schmuckstücke wie z.B. Ketten\,  Anhänger\,  Ohrhän
 ger oder Ringe herstellen. Wenn Sie alten Schmuck\,  Andenken oder kleine E
 rinnerungsstücke haben\,  können Sie diese ebenfalls verwenden. Anzahl de
 r Plätze: max. 6[..]\nhttps://dorfmanufakturidensen.de/events/schmuck-krea
 tiv-gestalten-3/
URL:https://dorfmanufakturidensen.de/events/schmuck-kreativ-gestalten-3/
END:VEVENT
END:VCALENDAR