BEGIN:VCALENDAR
VERSION:2.0
PRODID:-//eventon.com NONSGML v1.0//EN
CALSCALE:GREGORIAN
METHOD:PUBLISH
BEGIN:VEVENT
UID:69e806bb328ca
DTSTAMP:20260421T232235Z
DTSTART:20240308T173000Z
DTEND:20240308T203000Z
LOCATION:Dorfmanufaktur Idensen Brinkstr. 2
SUMMARY:Nisthilfe
DESCRIPTION:Wir flechten kleine runde Nisthilfen\,  die in der Ausführung 
 variieren können. Mit Heu oder Blätter gefüllt werden sie gerne von der 
 Vogelwelt angenommen. Aber auch im Haus sind sie ein tolles Dekoobjekt\,  w
 enn zb. ein kleiner gefilzter Piepmatz raus schaut!Bitte bringen sie eine G
 artenschere und eine Ahle oder eine kleine[..]\nhttps://dorfmanufakturidens
 en.de/events/nisthilfe-copy/
URL:https://dorfmanufakturidensen.de/events/nisthilfe-copy/
END:VEVENT
END:VCALENDAR